Workbook

Sheet Fijos interinos y plazas vacant
C5: Fijos, Interinos y plazas vacantes
A6: Categoría | B6: Grupo | C6: Propietario | D6: Ocupante | E6: Fijos | F6: Interinos | G6: Vacantes
A7: ='Personal IAS importado'!F2 -> Gerente | B7: ='Personal IAS importado'!E2 -> 1 | C7: ='Personal IAS importado'!G2 -> VACANTE | D7: ='Personal IAS importado'!J2 -> Redondas Marrero, Ricardo | E7: =IF(AND(C7<>"VACANTE",D7<>"VACANTE",C7=D7),1,) -> 0 | F7: =IF(C7<>D7,1,) -> 1 | G7: =IF(AND(C7="VACANTE", D7="VACANTE"),1,) -> 0 | H7: =IF(AND(E7="0", F7="0", G7="0"),"1","")
A8: ='Personal IAS importado'!F3 -> Director de centro | B8: ='Personal IAS importado'!E3 -> 1 | C8: ='Personal IAS importado'!G3 -> VACANTE | D8: ='Personal IAS importado'!J3 -> Benítez Medonza, Aday | E8: =IF(AND(C8<>"VACANTE",D8<>"VACANTE",C8=D8),1,) -> 0 | F8: =IF(C8<>D8,1,) -> 1 | G8: =IF(AND(C8="VACANTE", D8="VACANTE"),1,) -> 0 | H8: =IF(AND(E8="0", F8="0", G8="0"),"1","")
A9: ='Personal IAS importado'!F4 -> Asesor jurídico | B9: ='Personal IAS importado'!E4 -> 1 | C9: ='Personal IAS importado'!G4 -> Oramas González, Rosa M | D9: ='Personal IAS importado'!J4 -> Oramas González, Rosa M | E9: =IF(AND(C9<>"VACANTE",D9<>"VACANTE",C9=D9),1,) -> 1 | F9: =IF(C9<>D9,1,) -> 0 | G9: =IF(AND(C9="VACANTE", D9="VACANTE"),1,) -> 0 | H9: =IF(AND(E9="0", F9="0", G9="0"),"1","")
A10: ='Personal IAS importado'!F5 -> Técnico grupo I | B10: ='Personal IAS importado'!E5 -> 1 | C10: ='Personal IAS importado'!G5 -> Ojeda Ojeda, Mónica (Econom) | D10: ='Personal IAS importado'!J5 -> Ojeda Ojeda, Mónica (Econom) | E10: =IF(AND(C10<>"VACANTE",D10<>"VACANTE",C10=D10),1,) -> 1 | F10: =IF(C10<>D10,1,) -> 0 | G10: =IF(AND(C10="VACANTE", D10="VACANTE"),1,) -> 0 | H10: =IF(AND(E10="0", F10="0", G10="0"),"1","")
A11: ='Personal IAS importado'!F6 -> Técnico grupo I | B11: ='Personal IAS importado'!E6 -> 1 | C11: ='Personal IAS importado'!G6 -> Graziani Pirez, Romano O.(Dcho | D11: ='Personal IAS importado'!J6 -> Graziani Pirez, Romano O.(Dcho | E11: =IF(AND(C11<>"VACANTE",D11<>"VACANTE",C11=D11),1,) -> 1 | F11: =IF(C11<>D11,1,) -> 0 | G11: =IF(AND(C11="VACANTE", D11="VACANTE"),1,) -> 0 | H11: =IF(AND(E11="0", F11="0", G11="0"),"1","")
A12: ='Personal IAS importado'!F7 -> Técnico grupo I | B12: ='Personal IAS importado'!E7 -> 1 | C12: ='Personal IAS importado'!G7 -> Padillo Perez, Francisco (Econ) | D12: ='Personal IAS importado'!J7 -> Padillo Perez, Francisco (Econ) | E12: =IF(AND(C12<>"VACANTE",D12<>"VACANTE",C12=D12),1,) -> 1 | F12: =IF(C12<>D12,1,) -> 0 | G12: =IF(AND(C12="VACANTE", D12="VACANTE"),1,) -> 0 | H12: =IF(AND(E12="0", F12="0", G12="0"),"1","")
A13: ='Personal IAS importado'!F8 -> Coord. servicios grales. | B13: ='Personal IAS importado'!E8 -> 1 | C13: ='Personal IAS importado'!G8 -> VACANTE | D13: ='Personal IAS importado'!J8 -> Perera Sosa, Fernando Tenesor | E13: =IF(AND(C13<>"VACANTE",D13<>"VACANTE",C13=D13),1,) -> 0 | F13: =IF(C13<>D13,1,) -> 1 | G13: =IF(AND(C13="VACANTE", D13="VACANTE"),1,) -> 0 | H13: =IF(AND(E13="0", F13="0", G13="0"),"1","")
A14: ='Personal IAS importado'!F9 -> Técnico grupo I | B14: ='Personal IAS importado'!E9 -> 1 | C14: ='Personal IAS importado'!G9 -> Guerra Vaquero, Ana Ylenia | D14: ='Personal IAS importado'!J9 -> Guerra Vaquero, Ana Ylenia | E14: =IF(AND(C14<>"VACANTE",D14<>"VACANTE",C14=D14),1,) -> 1 | F14: =IF(C14<>D14,1,) -> 0 | G14: =IF(AND(C14="VACANTE", D14="VACANTE"),1,) -> 0 | H14: =IF(AND(E14="0", F14="0", G14="0"),"1","")
A15: ='Personal IAS importado'!F10 -> Técnico grupo I | B15: ='Personal IAS importado'!E10 -> 1 | C15: ='Personal IAS importado'!G10 -> Marquina Reyes, Gilberto (Inf) | D15: ='Personal IAS importado'!J10 -> Marquina Reyes, Gilberto (Inf) | E15: =IF(AND(C15<>"VACANTE",D15<>"VACANTE",C15=D15),1,) -> 1 | F15: =IF(C15<>D15,1,) -> 0 | G15: =IF(AND(C15="VACANTE", D15="VACANTE"),1,) -> 0 | H15: =IF(AND(E15="0", F15="0", G15="0"),"1","")
A16: ='Personal IAS importado'!F11 -> Técnico grupo I | B16: ='Personal IAS importado'!E11 -> 1 | C16: ='Personal IAS importado'!G11 -> Fernández Hernández, M. Olivia | D16: ='Personal IAS importado'!J11 -> Fernández Hernández, M. Olivia | E16: =IF(AND(C16<>"VACANTE",D16<>"VACANTE",C16=D16),1,) -> 1 | F16: =IF(C16<>D16,1,) -> 0 | G16: =IF(AND(C16="VACANTE", D16="VACANTE"),1,) -> 0 | H16: =IF(AND(E16="0", F16="0", G16="0"),"1","")
A17: ='Personal IAS importado'!F12 -> Administrativo | B17: ='Personal IAS importado'!E12 -> 3 | C17: ='Personal IAS importado'!G12 -> Fernandez Hernandez, Lidia E. | D17: ='Personal IAS importado'!J12 -> Fernandez Hernandez, Lidia E. | E17: =IF(AND(C17<>"VACANTE",D17<>"VACANTE",C17=D17),1,) -> 1 | F17: =IF(C17<>D17,1,) -> 0 | G17: =IF(AND(C17="VACANTE", D17="VACANTE"),1,) -> 0 | H17: =IF(AND(E17="0", F17="0", G17="0"),"1","")
A18: ='Personal IAS importado'!F13 -> Grupo de gestión | B18: ='Personal IAS importado'!E13 -> 2 | C18: ='Personal IAS importado'!G13 -> VACANTE | D18: ='Personal IAS importado'!J13 -> García Núñez, Virginia | E18: =IF(AND(C18<>"VACANTE",D18<>"VACANTE",C18=D18),1,) -> 0 | F18: =IF(C18<>D18,1,) -> 1 | G18: =IF(AND(C18="VACANTE", D18="VACANTE"),1,) -> 0 | H18: =IF(AND(E18="0", F18="0", G18="0"),"1","")
... A92: ='Personal IAS importado'!F87 -> A.T.S. / D.U.E. | B92: ='Personal IAS importado'!E87 -> 2 | C92: ='Personal IAS importado'!G87 -> Ramos Jiménez, Vanesa | D92: ='Personal IAS importado'!J87 -> Ramos Jiménez, Vanesa | E92: =IF(AND(C92<>"VACANTE",D92<>"VACANTE",C92=D92),1,) -> 1 | F92: =IF(C92<>D92,1,) -> 0 | G92: =IF(AND(C92="VACANTE", D92="VACANTE"),1,) -> 0 | H92: =IF(AND(E92="0", F92="0", G92="0"),"1","")
A93: ='Personal IAS importado'!F88 -> A.T.S. / D.U.E. | B93: ='Personal IAS importado'!E88 -> 2 | C93: ='Personal IAS importado'!G88 -> Gomez-Pamo Guerra-Rio, Gloria | D93: ='Personal IAS importado'!J88 -> Gomez-Pamo Guerra-Rio, Gloria | E93: =IF(AND(C93<>"VACANTE",D93<>"VACANTE",C93=D93),1,) -> 1 | G93: =IF(AND(C93="VACANTE", D93="VACANTE"),1,) -> 0 | H93: =IF(AND(E93="0", F93="0", G93="0"),"1","")
A94: ='Personal IAS importado'!F89 -> A.T.S. / D.U.E. | B94: ='Personal IAS importado'!E89 -> 2 | C94: ='Personal IAS importado'!G89 -> García Benítez, José Luis | D94: ='Personal IAS importado'!J89 -> García Benítez, José Luis | E94: =IF(AND(C94<>"VACANTE",D94<>"VACANTE",C94=D94),1,) -> 1 | F94: =IF(C94<>D94,1,) -> 0 | G94: =IF(AND(C94="VACANTE", D94="VACANTE"),1,) -> 0 | H94: =IF(AND(E94="0", F94="0", G94="0"),"1","")
A95: ='Personal IAS importado'!F90 -> A.T.S. / D.U.E. | B95: ='Personal IAS importado'!E90 -> 2 | C95: ='Personal IAS importado'!G90 -> VACANTE | D95: ='Personal IAS importado'!J90 -> Monzón Monzón, Sonia | E95: =IF(AND(C95<>"VACANTE",D95<>"VACANTE",C95=D95),1,) -> 0 | F95: =IF(C95<>D95,1,) -> 1 | G95: =IF(AND(C95="VACANTE", D95="VACANTE"),1,) -> 0 | H95: =IF(AND(E95="0", F95="0", G95="0"),"1","")
A96: ='Personal IAS importado'!F91 -> A.T.S. / D.U.E. | B96: ='Personal IAS importado'!E91 -> 2 | C96: ='Personal IAS importado'!G91 -> Saavedra Suárez, M. Cielo | D96: ='Personal IAS importado'!J91 -> Saavedra Suárez, M. Cielo | E96: =IF(AND(C96<>"VACANTE",D96<>"VACANTE",C96=D96),1,) -> 1 | F96: =IF(C96<>D96,1,) -> 0 | G96: =IF(AND(C96="VACANTE", D96="VACANTE"),1,) -> 0 | H96: =IF(AND(E96="0", F96="0", G96="0"),"1","")
A97: ='Personal IAS importado'!F92 -> A.T.S. / D.U.E. | B97: ='Personal IAS importado'!E92 -> 2 | C97: ='Personal IAS importado'!G92 -> Mejías Rodríguez, Iván | D97: ='Personal IAS importado'!J92 -> Mejías Rodríguez, Iván | E97: =IF(AND(C97<>"VACANTE",D97<>"VACANTE",C97=D97),1,) -> 1 | F97: =IF(C97<>D97,1,) -> 0 | G97: =IF(AND(C97="VACANTE", D97="VACANTE"),1,) -> 0 | H97: =IF(AND(E97="0", F97="0", G97="0"),"1","")
A98: ='Personal IAS importado'!F93 -> A.T.S. / D.U.E. | B98: ='Personal IAS importado'!E93 -> 2 | C98: ='Personal IAS importado'!G93 -> Rodríguez Déniz, Rebeca Vanesa | D98: ='Personal IAS importado'!J93 -> Rodríguez Déniz, Rebeca Vanesa | E98: =IF(AND(C98<>"VACANTE",D98<>"VACANTE",C98=D98),1,) -> 1 | F98: =IF(C98<>D98,1,) -> 0 | G98: =IF(AND(C98="VACANTE", D98="VACANTE"),1,) -> 0 | H98: =IF(AND(E98="0", F98="0", G98="0"),"1","")
A99: ='Personal IAS importado'!F94 -> A.T.S. / D.U.E. | B99: ='Personal IAS importado'!E94 -> 2 | C99: ='Personal IAS importado'!G94 -> Marrero Santana, Azucena | D99: ='Personal IAS importado'!J94 -> Marrero Santana, Azucena | E99: =IF(AND(C99<>"VACANTE",D99<>"VACANTE",C99=D99),1,) -> 1 | F99: =IF(C99<>D99,1,) -> 0 | G99: =IF(AND(C99="VACANTE", D99="VACANTE"),1,) -> 0 | H99: =IF(AND(E99="0", F99="0", G99="0"),"1","")
A100: ='Personal IAS importado'!F95 -> A.T.S. / D.U.E. | B100: ='Personal IAS importado'!E95 -> 2 | C100: ='Personal IAS importado'!G95 -> Hernández Medina, Noemí | D100: ='Personal IAS importado'!J95 -> Hernández Medina, Noemí | E100: =IF(AND(C100<>"VACANTE",D100<>"VACANTE",C100=D100),1,) -> 1 | F100: =IF(C100<>D100,1,) -> 0 | G100: =IF(AND(C100="VACANTE", D100="VACANTE"),1,) -> 0 | H100: =IF(AND(E100="0", F100="0", G100="0"),"1","")
A101: ='Personal IAS importado'!F96 -> A.T.S. / D.U.E. | B101: ='Personal IAS importado'!E96 -> 2 | C101: ='Personal IAS importado'!G96 -> Pérez Mendoza, Cristi Almudena | D101: ='Personal IAS importado'!J96 -> Pérez Mendoza, Cristi Almudena | E101: =IF(AND(C101<>"VACANTE",D101<>"VACANTE",C101=D101),1,) -> 1 | F101: =IF(C101<>D101,1,) -> 0 | G101: =IF(AND(C101="VACANTE", D101="VACANTE"),1,) -> 0 | H101: =IF(AND(E101="0", F101="0", G101="0"),"1","")
A102: ='Personal IAS importado'!F97 -> A.T.S. / D.U.E. | B102: ='Personal IAS importado'!E97 -> 2 | C102: ='Personal IAS importado'!G97 -> González Correa, Nayra Cristin | D102: ='Personal IAS importado'!J97 -> González Correa, Nayra Cristin | E102: =IF(AND(C102<>"VACANTE",D102<>"VACANTE",C102=D102),1,) -> 1 | F102: =IF(C102<>D102,1,) -> 0 | G102: =IF(AND(C102="VACANTE", D102="VACANTE"),1,) -> 0 | H102: =IF(AND(E102="0", F102="0", G102="0"),"1","")
A103: ='Personal IAS importado'!F98 -> A.T.S. / D.U.E. | B103: ='Personal IAS importado'!E98 -> 2 | C103: ='Personal IAS importado'!G98 -> Monzón Monzón, Susana | D103: ='Personal IAS importado'!J98 -> Monzón Monzón, Susana | E103: =IF(AND(C103<>"VACANTE",D103<>"VACANTE",C103=D103),1,) -> 1 | F103: =IF(C103<>D103,1,) -> 0 | G103: =IF(AND(C103="VACANTE", D103="VACANTE"),1,) -> 0 | H103: =IF(AND(E103="0", F103="0", G103="0"),"1","")
A104: ='Personal IAS importado'!F99 -> A.T.S. / D.U.E. | B104: ='Personal IAS importado'!E99 -> 2 | C104: ='Personal IAS importado'!G99 -> Ramírez Delgado, Agustín | D104: ='Personal IAS importado'!J99 -> Ramírez Delgado, Agustín | E104: =IF(AND(C104<>"VACANTE",D104<>"VACANTE",C104=D104),1,) -> 1 | F104: =IF(C104<>D104,1,) -> 0 | G104: =IF(AND(C104="VACANTE", D104="VACANTE"),1,) -> 0 | H104: =IF(AND(E104="0", F104="0", G104="0"),"1","")
A105: ='Personal IAS importado'!F100 -> A.T.S. / D.U.E. | B105: ='Personal IAS importado'!E100 -> 2 | C105: ='Personal IAS importado'!G100 -> Suárez Santana, Natalia | D105: ='Personal IAS importado'!J100 -> Suárez Santana, Natalia | E105: =IF(AND(C105<>"VACANTE",D105<>"VACANTE",C105=D105),1,) -> 1 | F105: =IF(C105<>D105,1,) -> 0 | G105: =IF(AND(C105="VACANTE", D105="VACANTE"),1,) -> 0 | H105: =IF(AND(E105="0", F105="0", G105="0"),"1","")
... A371: ='Personal IAS importado'!F366 -> Trabajador social | B371: ='Personal IAS importado'!E366 -> 2 | C371: ='Personal IAS importado'!G366 -> Sanz García, María Olga | D371: ='Personal IAS importado'!J366 -> Sanz García, María Olga | E371: =IF(AND(C371<>"VACANTE",D371<>"VACANTE",C371=D371),1,) -> 1 | F371: =IF(C371<>D371,1,) -> 0 | G371: =IF(AND(C371="VACANTE", D371="VACANTE"),1,) -> 0 | H371: =IF(AND(E371="0", F371="0", G371="0"),"1","")
A372: ='Personal IAS importado'!F367 -> Trabajador social | B372: ='Personal IAS importado'!E367 -> 2 | C372: ='Personal IAS importado'!G367 -> Pérez López, Fermín | D372: Pérez López, Fermín | E372: =IF(AND(C372<>"VACANTE",D372<>"VACANTE",C372=D372),1,) -> 1 | F372: =IF(C372<>D372,1,) -> 0 | G372: =IF(AND(C372="VACANTE", D372="VACANTE"),1,) -> 0 | H372: =IF(AND(E372="0", F372="0", G372="0"),"1","")
A373: ='Personal IAS importado'!F368 -> Trabajador social | B373: ='Personal IAS importado'!E368 -> 2 | C373: ='Personal IAS importado'!G368 -> Rodríguez Herrera, Irma | D373: ='Personal IAS importado'!J368 -> Rodríguez Herrera, Irma | E373: =IF(AND(C373<>"VACANTE",D373<>"VACANTE",C373=D373),1,) -> 1 | F373: =IF(C373<>D373,1,) -> 0 | G373: =IF(AND(C373="VACANTE", D373="VACANTE"),1,) -> 0 | H373: =IF(AND(E373="0", F373="0", G373="0"),"1","")
A374: ='Personal IAS importado'!F369 -> Auxiliar administrativo | B374: ='Personal IAS importado'!E369 -> 4 | C374: ='Personal IAS importado'!G369 -> Galiano Hernández, Alicia | D374: ='Personal IAS importado'!J369 -> Galiano Hernández, Alicia | E374: =IF(AND(C374<>"VACANTE",D374<>"VACANTE",C374=D374),1,) -> 1 | F374: =IF(C374<>D374,1,) -> 0 | G374: =IF(AND(C374="VACANTE", D374="VACANTE"),1,) -> 0 | H374: =IF(AND(E374="0", F374="0", G374="0"),"1","")
A375: ='Personal IAS importado'!F370 -> Trabajador social | B375: ='Personal IAS importado'!E370 -> 2 | C375: ='Personal IAS importado'!G370 -> Hernández Santana, Mercedes | D375: ='Personal IAS importado'!J370 -> Hernández Santana, Mercedes | E375: =IF(AND(C375<>"VACANTE",D375<>"VACANTE",C375=D375),1,) -> 1 | F375: =IF(C375<>D375,1,) -> 0 | G375: =IF(AND(C375="VACANTE", D375="VACANTE"),1,) -> 0 | H375: =IF(AND(E375="0", F375="0", G375="0"),"1","")
A376: ='Personal IAS importado'!F371 -> Trabajador social | B376: ='Personal IAS importado'!E371 -> 2 | C376: ='Personal IAS importado'!G371 -> Rivero Santana, Dunia | D376: ='Personal IAS importado'!J371 -> Rivero Santana, Dunia | E376: =IF(AND(C376<>"VACANTE",D376<>"VACANTE",C376=D376),1,) -> 1 | F376: =IF(C376<>D376,1,) -> 0 | G376: =IF(AND(C376="VACANTE", D376="VACANTE"),1,) -> 0 | H376: =IF(AND(E376="0", F376="0", G376="0"),"1","")
A377: ='Personal IAS importado'!F372 -> Administrativo | B377: ='Personal IAS importado'!E372 -> 3 | C377: ='Personal IAS importado'!G372 -> González Hernández, Milagrosa | D377: ='Personal IAS importado'!J372 -> González Hernández, Milagrosa | E377: =IF(AND(C377<>"VACANTE",D377<>"VACANTE",C377=D377),1,) -> 1 | F377: =IF(C377<>D377,1,) -> 0 | G377: =IF(AND(C377="VACANTE", D377="VACANTE"),1,) -> 0 | H377: =IF(AND(E377="0", F377="0", G377="0"),"1","")
A378: ='Personal IAS importado'!F373 -> Técnico grupo I | B378: ='Personal IAS importado'!E373 -> 1 | C378: ='Personal IAS importado'!G373 -> De Armas Hernández, José Gabri | D378: ='Personal IAS importado'!J373 -> De Armas Hernández, José Gabri | E378: =IF(AND(C378<>"VACANTE",D378<>"VACANTE",C378=D378),1,) -> 1 | F378: =IF(C378<>D378,1,) -> 0 | G378: =IF(AND(C378="VACANTE", D378="VACANTE"),1,) -> 0 | H378: =IF(AND(E378="0", F378="0", G378="0"),"1","")
A379: ='Personal IAS importado'!F374 -> Técnico grupo I | B379: ='Personal IAS importado'!E374 -> 1 | C379: ='Personal IAS importado'!G374 -> González Pajuelo, Cristina | D379: ='Personal IAS importado'!J374 -> González Pajuelo, Cristina | E379: =IF(AND(C379<>"VACANTE",D379<>"VACANTE",C379=D379),1,) -> 1 | F379: =IF(C379<>D379,1,) -> 0 | G379: =IF(AND(C379="VACANTE", D379="VACANTE"),1,) -> 0 | H379: =IF(AND(E379="0", F379="0", G379="0"),"1","")
A380: ='Personal IAS importado'!F375 -> Técnico grupo I | B380: ='Personal IAS importado'!E375 -> 1 | C380: ='Personal IAS importado'!G375 -> Navarro Sanz, Magín | D380: ='Personal IAS importado'!J375 -> Navarro Sanz, Magín | E380: =IF(AND(C380<>"VACANTE",D380<>"VACANTE",C380=D380),1,) -> 1 | F380: =IF(C380<>D380,1,) -> 0 | G380: =IF(AND(C380="VACANTE", D380="VACANTE"),1,) -> 0 | H380: =IF(AND(E380="0", F380="0", G380="0"),"1","")
A381: ='Personal IAS importado'!F376 -> Auxiliar administrativo | B381: ='Personal IAS importado'!E376 -> 4 | C381: ='Personal IAS importado'!G376 -> Sarmiento Pérez, Teresa | D381: ='Personal IAS importado'!J376 -> Sarmiento Pérez, Teresa | E381: =IF(AND(C381<>"VACANTE",D381<>"VACANTE",C381=D381),1,) -> 1 | F381: =IF(C381<>D381,1,) -> 0 | G381: =IF(AND(C381="VACANTE", D381="VACANTE"),1,) -> 0 | H381: =IF(AND(E381="0", F381="0", G381="0"),"1","")
A382: ='Personal IAS importado'!F377 -> Personal oficio | B382: ='Personal IAS importado'!E377 -> 4 | C382: ='Personal IAS importado'!G377 -> Rivero Morales, Nauzet | D382: ='Personal IAS importado'!J377 -> Rivero Morales, Nauzet | E382: =IF(AND(C382<>"VACANTE",D382<>"VACANTE",C382=D382),1,) -> 1 | F382: =IF(C382<>D382,1,) -> 0 | G382: =IF(AND(C382="VACANTE", D382="VACANTE"),1,) -> 0 | H382: =IF(AND(E382="0", F382="0", G382="0"),"1","")
A383: ='Personal IAS importado'!F378 -> Técnico medio comunicación (grupo II) | B383: ='Personal IAS importado'!E378 -> 2 | C383: ='Personal IAS importado'!G378 -> VACANTE | D383: ='Personal IAS importado'!J378 -> VACANTE | E383: =IF(AND(C383<>"VACANTE",D383<>"VACANTE",C383=D383),1,) -> 0 | F383: =IF(C383<>D383,1,) -> 0 | G383: =IF(AND(C383="VACANTE", D383="VACANTE"),1,) -> 1 | H383: =IF(AND(E383="0", F383="0", G383="0"),"1","")
A384: ='Personal IAS importado'!F379 -> Técnico grupo I | B384: ='Personal IAS importado'!E379 -> 1 | C384: ='Personal IAS importado'!G379 -> Santana Cabrera, Luz María | D384: ='Personal IAS importado'!J379 -> Santana Cabrera, Luz María | E384: =IF(AND(C384<>"VACANTE",D384<>"VACANTE",C384=D384),1,) -> 1 | F384: =IF(C384<>D384,1,) -> 0 | G384: =IF(AND(C384="VACANTE", D384="VACANTE"),1,) -> 0 | H384: =IF(AND(E384="0", F384="0", G384="0"),"1","")
... A399: ='Personal IAS importado'!F394 -> Delineante | B399: ='Personal IAS importado'!E394 -> 3 | C399: ='Personal IAS importado'!G394 -> Díaz Armas, Antonio Daniel | D399: ='Personal IAS importado'!J394 -> Díaz Armas, Antonio Daniel | E399: =IF(AND(C399<>"VACANTE",D399<>"VACANTE",C399=D399),1,) -> 1 | F399: =IF(C399<>D399,1,) -> 0 | G399: =IF(AND(C399="VACANTE", D399="VACANTE"),1,) -> 0 | H399: =IF(AND(E399="0", F399="0", G399="0"),"1","")
A400: ='Personal IAS importado'!F395 -> Administrativo | B400: ='Personal IAS importado'!E395 -> 3 | C400: ='Personal IAS importado'!G395 -> VACANTE | D400: ='Personal IAS importado'!J395 -> Santana Lorenzo, Laura | E400: =IF(AND(C400<>"VACANTE",D400<>"VACANTE",C400=D400),1,) -> 0 | F400: =IF(C400<>D400,1,) -> 1 | G400: =IF(AND(C400="VACANTE", D400="VACANTE"),1,) -> 0
A401: ='Personal IAS importado'!F396 -> 0 | B401: ='Personal IAS importado'!E396 -> 0 | C401: ='Personal IAS importado'!G396 -> 0 | D401: ='Personal IAS importado'!J396 -> 0 | F401: =IF(C401<>D401,1,) -> 0 | G401: =IF(AND(C401="VACANTE", D401="VACANTE"),1,) -> 0
A402: ='Personal IAS importado'!F397 -> 0 | B402: ='Personal IAS importado'!E397 -> 0 | C402: ='Personal IAS importado'!G397 -> 0 | D402: ='Personal IAS importado'!J397 -> 0 | F402: =IF(C402<>D402,1,) -> 0 | G402: =IF(AND(C402="VACANTE", D402="VACANTE"),1,) -> 0
C403: ='Personal IAS importado'!G397 -> 0 | D403: ='Personal IAS importado'!J397 -> 0
C404: ='Personal IAS importado'!G398 -> 0 | D404: ='Personal IAS importado'!J398 -> 0
C405: ='Personal IAS importado'!G399 -> 0 | D405: ='Personal IAS importado'!J399 -> 0
C406: ='Personal IAS importado'!G400 -> 0 | D406: ='Personal IAS importado'!J400 -> 0
C407: ='Personal IAS importado'!G401 -> 0 | D407: ='Personal IAS importado'!J401 -> 0
C408: ='Personal IAS importado'!G402 -> 0 | D408: ='Personal IAS importado'!J402 -> 0
C409: ='Personal IAS importado'!G403 -> 0 | D409: ='Personal IAS importado'!J403 -> 0
C410: ='Personal IAS importado'!G404 -> 0 | D410: ='Personal IAS importado'!J404 -> 0
C411: ='Personal IAS importado'!G405 -> 0 | D411: ='Personal IAS importado'!J405 -> 0
C412: ='Personal IAS importado'!G406 -> 0 | D412: ='Personal IAS importado'!J406 -> 0
C413: ='Personal IAS importado'!G407 -> 0 | D413: ='Personal IAS importado'!J407 -> 0
C414: ='Personal IAS importado'!G408 -> 0 | D414: ='Personal IAS importado'!J408 -> 0
... C416: ='Personal IAS importado'!G410 -> 0 | D416: ='Personal IAS importado'!J410 -> 0

Sheet Personal IAS importado
A1: numero | B1: cobro_ocupante | C1: centro | D1: nombre | E1: grupo | F1: categoria | G1: propietario | H1: fecha_nac_propietario | I1: fecha_antig_propietario | J1: ocupante | K1: fecha_nac_ocupante | L1: fecha_antig_ocupante | M1: sueldo base | N1: comp dest | O1: comp esp | P1: residencia | Q1: paga extra | R1: total | S1: antiguedad | T1: antig cong | U1: prod variable | V1: reduccion | W1: Suma | X1: observaciones
A2: 1 | B2: 2367 | C2: 1 | D2: Oficinas Centrales | E2: 1 | F2: Gerente | G2: VACANTE | J2: Redondas Marrero, Ricardo | K2: 27445 | L2: 36861 | M2: 16646.88 | N2: 13042.68 | O2: 27515.4 | P2: 2575.44 | Q2: 8471.78 | R2: 68252.18 | S2: 2833.7 | T2: 0 | U2: 7188.92 | W2: 71085.88
A3: 3 | B3: 2401 | C3: 1 | D3: Oficinas Centrales | E3: 1 | F3: Director de centro | G3: VACANTE | J3: Benítez Medonza, Aday | K3: 31623 | L3: 45717 | M3: 16646.88 | N3: 12494.64 | O3: 19461.48 | P3: 2575.44 | Q3: 7038.12 | R3: 58216.56 | S3: -922.6 | T3: 0 | U3: 5755.26 | W3: 57293.96
A4: 6 | B4: 729 | C4: 1 | D4: Oficinas Centrales | E4: 1 | F4: Asesor jurídico | G4: Oramas González, Rosa M | H4: 26465 | I4: 37452 | J4: Oramas González, Rosa M | K4: 26465 | L4: 37452 | M4: 16646.88 | N4: 12494.64 | O4: 19461.48 | P4: 2575.44 | Q4: 7038.12 | R4: 58216.56 | S4: 2767.8 | T4: 0 | U4: 5755.26 | W4: 60984.36
A5: 8 | B5: 933 | C5: 1 | D5: Oficinas Centrales | E5: 1 | F5: Técnico grupo I | G5: Ojeda Ojeda, Mónica (Econom) | H5: 26711 | I5: 35544 | J5: Ojeda Ojeda, Mónica (Econom) | K5: 26711 | L5: 35544 | M5: 16646.88 | N5: 8749.68 | O5: 16910.88 | P5: 2575.44 | Q5: 5988.86 | R5: 50871.74 | S5: 3558.6 | T5: 0 | U5: 4706 | W5: 54430.34
A6: 10 | B6: 196 | C6: 1 | D6: Oficinas Centrales | E6: 1 | F6: Técnico grupo I | G6: Graziani Pirez, Romano O.(Dcho | H6: 22732 | I6: 34406 | J6: Graziani Pirez, Romano O.(Dcho | K6: 22732 | L6: 34498 | M6: 16646.88 | N6: 8749.68 | O6: 16910.88 | P6: 2575.44 | Q6: 5988.86 | R6: 50871.74 | S6: 3921.05 | T6: 0 | U6: 4706 | W6: 54792.79 | X6: J. SERVICIO RR.HH.
A7: 11 | B7: 298 | C7: 1 | D7: Oficinas Centrales | E7: 1 | F7: Técnico grupo I | G7: Padillo Perez, Francisco (Econ) | H7: 25008 | I7: 34851 | J7: Padillo Perez, Francisco (Econ) | K7: 25008 | L7: 34851 | M7: 16646.88 | N7: 8749.68 | O7: 16910.88 | P7: 2575.44 | Q7: 5988.86 | R7: 50871.74 | S7: 3690.4 | T7: 0 | U7: 4706 | W7: 54562.14 | X7: J. SERV. INTERVENCIÓN
A8: 12 | B8: 1731 | C8: 1 | D8: Oficinas Centrales | E8: 1 | F8: Coord. servicios grales. | G8: VACANTE | J8: Perera Sosa, Fernando Tenesor | K8: 28810 | L8: 45170 | M8: 16646.88 | N8: 12494.64 | O8: 19461.48 | P8: 2575.44 | Q8: 7038.12 | R8: 58216.56 | S8: -461.3 | T8: 0 | U8: 5755.26 | W8: 57755.26
A9: 13 | B9: 1927 | C9: 1 | D9: Oficinas Centrales | E9: 1 | F9: Técnico grupo I | G9: Guerra Vaquero, Ana Ylenia | H9: 31178 | I9: 43045 | J9: Guerra Vaquero, Ana Ylenia | K9: 31178 | L9: 43045 | M9: 16646.88 | N9: 8749.68 | O9: 16910.88 | P9: 2575.44 | Q9: 5988.86 | R9: 50871.74 | S9: 461.3 | T9: 0 | U9: 4706 | W9: 51333.04 | X9: J. SERVICIO CONTRATACIÓN
A10: 14 | B10: 536 | C10: 1 | D10: Oficinas Centrales | E10: 1 | F10: Técnico grupo I | G10: Marquina Reyes, Gilberto (Inf) | H10: 26544 | I10: 36122 | J10: Marquina Reyes, Gilberto (Inf) | K10: 26544 | L10: 36122 | M10: 16646.88 | N10: 8749.68 | O10: 16910.88 | P10: 2575.44 | Q10: 5988.86 | R10: 50871.74 | S10: 3229.1 | T10: 0 | U10: 4706 | W10: 54100.84 | X10: J. SERV. INFORMÁTICA
A11: 15 | B11: 784 | C11: 1 | D11: Oficinas Centrales | E11: 1 | F11: Técnico grupo I | G11: Fernández Hernández, M. Olivia | H11: 27093 | I11: 37746 | J11: Fernández Hernández, M. Olivia | K11: 27093 | L11: 37746 | M11: 16646.88 | N11: 8749.68 | O11: 16910.88 | P11: 2575.44 | Q11: 5988.86 | R11: 50871.74 | S11: 2603.05 | T11: 0 | U11: 4706 | W11: 53474.79
A12: 18 | B12: 295 | C12: 1 | D12: Oficinas Centrales | E12: 3 | F12: Administrativo | G12: Fernandez Hernandez, Lidia E. | H12: 23791 | I12: 36132 | J12: Fernandez Hernandez, Lidia E. | K12: 23791 | L12: 36132 | M12: 10807.56 | N12: 5252.76 | O12: 7302.84 | P12: 1735.44 | Q12: 3649.44 | R12: 28748.04 | S12: 2788.1 | T12: 0 | U12: 2381.84 | W12: 31536.14
A13: 22 | B13: 1951 | C13: 1 | D13: Oficinas Centrales | E13: 2 | F13: Grupo de gestión | G13: VACANTE | J13: García Núñez, Virginia | K13: 27615 | L13: 41212 | M13: 14394.24 | N13: 7652.76 | O13: 11487.96 | P13: 2104.56 | Q13: 4939.78 | R13: 40579.3 | S13: 983.63 | T13: 0 | U13: 3540.88 | W13: 41562.93
A14: 23 | B14: 1956 | C14: 1 | D14: Oficinas Centrales | E14: 2 | F14: Grupo de gestión | G14: VACANTE | J14: Falcón Santana, Ramón Miguel | K14: 28032 | L14: 43213 | M14: 14394.24 | N14: 7652.76 | O14: 11487.96 | P14: 2104.56 | Q14: 4939.78 | R14: 40579.3 | S14: 317.3 | T14: 0 | U14: 3540.88 | W14: 40896.6
A15: 25 | B15: 1705 | C15: 1 | D15: Oficinas Centrales | E15: 2 | F15: Grupo de gestión | G15: Santana Montesdeoca, Cecilia | H15: 28097 | I15: 41960 | J15: Santana Montesdeoca, Cecilia | K15: 28097 | L15: 41960 | M15: 14394.24 | N15: 7652.76 | O15: 11487.96 | P15: 2104.56 | Q15: 4939.78 | R15: 40579.3 | S15: 888.44 | T15: 0 | U15: 3540.88 | W15: 41467.74
A16: 27 | C16: 1 | D16: Oficinas Centrales | E16: 2 | F16: Grupo de gestión | G16: Vega Moreno, Antonio Jacinto | H16: 23187 | I16: 32752 | J16: Vega Moreno, Antonio Jacinto | K16: 23187 | L16: 32752 | M16: 14394.24 | N16: 7652.76 | O16: 11487.96 | P16: 2104.56 | Q16: 4939.78 | R16: 40579.3 | S16: 4442.2 | T16: 0 | U16: 3540.88 | W16: 45021.5
A17: 29 | B17: 64 | C17: 1 | D17: Oficinas Centrales | E17: 2 | F17: Analista programador | G17: Tacoronte Gonzalez, J. Carlos | H17: 23709 | I17: 33703 | J17: Tacoronte Gonzalez, J. Carlos | K17: 23709 | L17: 33703 | M17: 14394.24 | N17: 7652.76 | O17: 11487.96 | P17: 2104.56 | Q17: 4939.78 | R17: 40579.3 | S17: 3997.98 | T17: 0 | U17: 3540.88 | W17: 44577.28
A18: 32 | B18: 268 | C18: 1 | D18: Oficinas Centrales | E18: 3 | F18: Secretaria alto cargo | G18: Sánchez Cáceres, Sandra | H18: 25841 | I18: 35612 | J18: Sánchez Cáceres, Sandra | K18: 25841 | L18: 35612 | M18: 10807.56 | N18: 5926.32 | O18: 8170.32 | P18: 1735.44 | Q18: 3906.28 | R18: 30545.92 | S18: 2987.25 | T18: 0 | U18: 2638.68 | W18: 33533.17 | X18: Compl. Caja Fija y C.N.P. S.A.C.
A19: 33 | B19: 336 | C19: 2 | D19: Centro El Sabinal | E19: 2 | F19: Ingeniero Técnico Informático | G19: García Cabrera, Fernando | H19: 25486 | I19: 33025 | J19: García Cabrera, Fernando | K19: 25486 | L19: 33025 | M19: 14394.24 | N19: 7652.76 | O19: 11487.96 | P19: 2104.56 | Q19: 4939.78 | R19: 40579.3 | S19: 4442.2 | T19: 0 | U19: 3540.88 | W19: 45021.5
A20: 35 | C20: 1 | D20: Oficinas Centrales | E20: 2 | F20: Jefe de sección grupo II | G20: VACANTE | J20: VACANTE | M20: 14394.24 | N20: 8749.68 | O20: 15635.4 | P20: 2104.56 | Q20: 5813.84 | R20: 46697.72 | S20: 0 | T20: 0 | U20: 4414.94 | W20: 46697.72
A21: 39 | B21: 29 | C21: 1 | D21: Oficinas Centrales | E21: 2 | F21: Oficial adm. S/título | G21: VACANTE | J21: VACANTE | M21: 14394.24 | N21: 7652.76 | O21: 11487.96 | P21: 2104.56 | Q21: 4939.78 | R21: 40579.3 | S21: 0 | T21: 0 | U21: 3540.88 | W21: 40579.3
A22: 70 | B22: 199 | C22: 1 | D22: Oficinas Centrales | E22: 4 | F22: Auxiliar administrativo | G22: Moreno Hernández, M. Carmen | H22: 25733 | I22: 35353 | J22: Moreno Hernández, M. Carmen | K22: 25733 | L22: 35353 | M22: 8994.96 | N22: 4578.84 | O22: 6027.24 | P22: 1430.28 | Q22: 3253.18 | R22: 24284.5 | S22: 2486.4 | T22: 0 | U22: 2006.06 | W22: 26770.9
A23: 71 | B23: 394 | C23: 1 | D23: Oficinas Centrales | E23: 4 | F23: Auxiliar administrativo | G23: Medina Martínez, Reyes | H23: 24482 | I23: 37191 | J23: Medina Martínez, Reyes | K23: 24483 | L23: 37191 | M23: 8994.96 | N23: 4578.84 | O23: 6027.24 | P23: 1430.28 | Q23: 3253.18 | R23: 24284.5 | S23: 1864.8 | T23: 0 | U23: 2006.06 | W23: 26149.3
A24: 72 | B24: 1233 | C24: 1 | D24: Oficinas Centrales | E24: 4 | F24: Auxiliar administrativo | G24: Martel Galván, Josefa | H24: 27109 | I24: 39482 | J24: Martel Galván, Josefa | K24: 27109 | L24: 39482 | M24: 8994.96 | N24: 4578.84 | O24: 6027.24 | P24: 1430.28 | Q24: 3253.18 | R24: 24284.5 | S24: 1243.2 | T24: 0 | U24: 2006.06 | W24: 25527.7
A25: 73 | B25: 291 | C25: 1 | D25: Oficinas Centrales | E25: 4 | F25: Auxiliar administrativo | G25: Rodríguez Sánchez, Antonia | H25: 24271 | I25: 36661 | J25: Rodríguez Sánchez, Antonia | K25: 24271 | L25: 36661 | M25: 8994.96 | N25: 4578.84 | O25: 6027.24 | P25: 1430.28 | Q25: 3253.18 | R25: 24284.5 | S25: 2064.6 | T25: 0 | U25: 2006.06 | W25: 26349.1
A26: 74 | B26: 730 | C26: 2 | D26: Centro El Sabinal | E26: 4 | F26: Auxiliar administrativo | G26: Melián Arteaga, Arístides | H26: 26607 | I26: 34274 | J26: Melián Arteaga, Arístides | K26: 26607 | L26: 34274 | M26: 8994.96 | N26: 4578.84 | O26: 6027.24 | P26: 1430.28 | Q26: 3253.18 | R26: 24284.5 | S26: 2797.2 | T26: 0 | U26: 2006.06 | W26: 27081.7
A27: 81 | B27: 537 | C27: 1 | D27: Oficinas Centrales | E27: 3 | F27: Administrativo | G27: Peña Suárez, M. Pino | H27: 25328 | I27: 35667 | J27: Peña Suárez, M. Pino | K27: 25328 | L27: 35667 | M27: 10807.56 | N27: 5252.76 | O27: 7302.84 | P27: 1735.44 | Q27: 3649.44 | R27: 28748.04 | S27: 2930.35 | T27: 0 | U27: 2381.84 | W27: 31678.39
A28: 87 | B28: 276 | C28: 1 | D28: Oficinas Centrales | E28: 4 | F28: Auxiliar administrativo | G28: Padrón Talavera, Lidia E. | H28: 24433 | I28: 39581 | J28: Padrón Talavera, Lidia E. | K28: 24433 | L28: 39581 | M28: 8994.96 | N28: 4578.84 | O28: 6027.24 | P28: 1430.28 | Q28: 3253.18 | R28: 24284.5 | S28: 1243.2 | T28: 0 | U28: 2006.06 | W28: 25527.7
A29: 89 | B29: 2 | C29: 1 | D29: Oficinas Centrales | E29: 2 | F29: Oficial adm. S/título | G29: Machado Betancor, Sergio | H29: 22789 | I29: 33342 | J29: Machado Betancor, Sergio | K29: 22789 | L29: 33342 | M29: 14394.24 | N29: 7652.76 | O29: 11487.96 | P29: 2104.56 | Q29: 4939.78 | R29: 40579.3 | S29: 4315.28 | T29: 0 | U29: 3540.88 | W29: 44894.58
A30: 92 | B30: 79 | C30: 1 | D30: Oficinas Centrales | E30: 2 | F30: Oficial adm. S/título | G30: Santana Ordoñez, Juan Fco. | H30: 23160 | I30: 28373 | J30: Santana Ordoñez, Juan Fco. | K30: 23160 | L30: 32391 | M30: 14394.24 | N30: 7652.76 | O30: 11487.96 | P30: 2104.56 | Q30: 4939.78 | R30: 40579.3 | S30: 4569.12 | T30: 0 | U30: 3540.88 | W30: 45148.42
A31: 116 | B31: 2065 | C31: 2 | D31: Centro El Sabinal | E31: 2 | F31: Terapeuta ocupacional | G31: VACANTE | J31: Benito Zamorano, Esther | K31: 31351 | L31: 43801 | M31: 14394.24 | N31: 7652.76 | O31: 11487.96 | P31: 2104.56 | Q31: 4939.78 | R31: 40579.3 | S31: 0 | T31: 0 | U31: 3540.88 | W31: 40579.3
A32: 117 | B32: 2419 | C32: 2 | D32: Centro El Sabinal | E32: 2 | F32: Trabajador social | G32: VACANTE | J32: Sosa Báez, Joanna del Pilar | K32: 28715 | L32: 42045 | M32: 14394.24 | N32: 7652.76 | O32: 11487.96 | P32: 2104.56 | Q32: 4939.78 | R32: 40579.3 | S32: 824.98 | T32: 0 | U32: 3540.88 | W32: 41404.28
A33: 118 | B33: 925 | C33: 1 | D33: Oficinas Centrales | E33: 2 | F33: Trabajador social | G33: Rivero Navarro, Mª Jesús | H33: 27432 | I33: 36800 | J33: Rivero Navarro, Mª Jesús | K33: 27432 | L33: 36800 | M33: 14394.24 | N33: 7652.76 | O33: 11487.96 | P33: 2104.56 | Q33: 4939.78 | R33: 40579.3 | S33: 2792.24 | T33: 0 | U33: 3540.88 | W33: 43371.54
A34: 120 | B34: 1777 | C34: 2 | D34: Centro El Sabinal | E34: 2 | F34: Trabajador social | G34: VACANTE | J34: Hernández Rosario, Minerva Mª | K34: 29063 | L34: 39505 | M34: 14394.24 | N34: 7652.76 | O34: 11487.96 | P34: 2104.56 | Q34: 4939.78 | R34: 40579.3 | S34: 1776.88 | T34: 0 | U34: 3540.88 | W34: 42356.18
A35: 131 | C35: 2 | D35: Centro El Sabinal | E35: 4 | F35: Telefonista | G35: VACANTE | J35: VACANTE | M35: 8994.96 | N35: 4578.84 | O35: 6027.24 | P35: 1430.28 | Q35: 3253.18 | R35: 24284.5 | S35: 0 | T35: 0 | U35: 2006.06 | W35: 24284.5
A36: 133 | B36: 1553 | C36: 2 | D36: Centro El Sabinal | E36: 4 | F36: Telefonista | G36: Del Toro Gutiérrez, Nieves | H36: 26134 | I36: 41823 | J36: Del Toro Gutiérrez, Nieves | K36: 26134 | L36: 41823 | M36: 8994.96 | N36: 4578.84 | O36: 6027.24 | P36: 1430.28 | Q36: 3253.18 | R36: 24284.5 | S36: 621.6 | T36: 0 | U36: 2006.06 | W36: 24906.1
A37: 134 | B37: 5 | C37: 5 | D37: Hospital Dermatológico | E37: 4 | F37: Telefonista | G37: VACANTE | J37: VACANTE | M37: 8994.96 | N37: 4578.84 | O37: 6027.24 | P37: 1430.28 | Q37: 3253.18 | R37: 24284.5 | S37: 0 | T37: 0 | U37: 2006.06 | W37: 24284.5
A38: 167 | C38: 2 | D38: Centro El Sabinal | E38: 5 | F38: Portero/ordenanza | G38: VACANTE | J38: VACANTE | M38: 8232.84 | N38: 4068.36 | O38: 4855.08 | P38: 1263.6 | Q38: 2859.38 | R38: 21279.26 | S38: 0 | T38: 0 | U38: 1697.84 | V38: 0 | W38: 0
A39: 168 | C39: 2 | D39: Centro El Sabinal | E39: 5 | F39: Portero/ordenanza | G39: VACANTE | J39: VACANTE | M39: 8232.84 | N39: 4068.36 | O39: 4855.08 | P39: 1263.6 | Q39: 2859.38 | R39: 21279.26 | S39: 0 | T39: 0 | U39: 1697.84 | V39: 0 | W39: 0
A40: 171 | B40: 263 | C40: 2 | D40: Centro El Sabinal | E40: 5 | F40: Portero/ordenanza | G40: VACANTE | J40: VACANTE | M40: 8232.84 | N40: 4068.36 | O40: 4855.08 | P40: 1263.6 | Q40: 2859.38 | R40: 21279.26 | S40: 0 | T40: 0 | U40: 1697.84 | W40: 21279.26
A41: 172 | C41: 2 | D41: Centro El Sabinal | E41: 5 | F41: Portero/ordenanza | G41: VACANTE | J41: VACANTE | M41: 8232.84 | N41: 4068.36 | O41: 4855.08 | P41: 1263.6 | Q41: 2859.38 | R41: 21279.26 | S41: 0 | T41: 0 | U41: 1697.84 | V41: 0 | W41: 0
A42: 176 | B42: 1850 | C42: 1 | D42: Oficinas Centrales | E42: 5 | F42: Portero/ordenanza | G42: García Albadalejo, Silvia Elen | H42: 31395 | I42: 39814 | J42: García Albadalejo, Silvia Elen | K42: 31395 | L42: 39814 | M42: 8232.84 | N42: 4068.36 | O42: 4855.08 | P42: 1263.6 | Q42: 2859.38 | R42: 21279.26 | S42: 946.4 | T42: 0 | U42: 1697.84 | W42: 22225.66
A43: 186 | B43: 762 | C43: 2 | D43: Centro El Sabinal | E43: 5 | F43: Mozo de almacén | G43: Santana Santana, Angel | H43: 23134 | I43: 38547 | J43: Santana Santana, Angel | K43: 23134 | L43: 38547 | M43: 8232.84 | N43: 4068.36 | O43: 4855.08 | P43: 1263.6 | Q43: 2859.38 | R43: 21279.26 | S43: 1183 | T43: 0 | U43: 1697.84 | W43: 22462.26
A44: 187 | B44: 164 | C44: 2 | D44: Centro El Sabinal | E44: 5 | F44: Mozo de almacén | G44: Ramos Martinez, Blas | H44: 22004 | I44: 31809 | J44: Ramos Martinez, Blas | K44: 22004 | L44: 31809 | M44: 8232.84 | N44: 4068.36 | O44: 4855.08 | P44: 1263.6 | Q44: 2859.38 | R44: 21279.26 | S44: 2602.6 | T44: 195.44 | U44: 1697.84 | W44: 24077.3
A45: 188 | B45: 1382 | C45: 2 | D45: Centro El Sabinal | E45: 5 | F45: Mozo de almacén | G45: Rodríguez-Valdés Roque, Carlos | H45: 27464 | I45: 41940 | J45: Rodríguez-Valdés Roque, Carlos | K45: 27464 | L45: 41940 | M45: 8232.84 | N45: 4068.36 | O45: 4855.08 | P45: 1263.6 | Q45: 2859.38 | R45: 21279.26 | S45: 473.2 | T45: 0 | U45: 1697.84 | W45: 21752.46
A46: 191 | B46: 1779 | C46: 2 | D46: Centro El Sabinal | E46: 5 | F46: Mozo de almacén | G46: Rodríguez Hernández, Enrique | H46: 31093 | I46: 42032 | J46: Rodríguez Hernández, Enrique | K46: 31093 | L46: 42032 | M46: 8232.84 | N46: 4068.36 | O46: 4855.08 | P46: 1263.6 | Q46: 2859.38 | R46: 21279.26 | S46: 456.3 | T46: 0 | U46: 1697.84 | W46: 21735.56
A47: 192 | B47: 703 | C47: 2 | D47: Centro El Sabinal | E47: 5 | F47: Mozo de almacén | G47: Montesdeoca Santana, Antonio | H47: 25284 | I47: 38825 | J47: Montesdeoca Santana, Antonio | K47: 25284 | L47: 38825 | M47: 8232.84 | N47: 4068.36 | O47: 4855.08 | P47: 1263.6 | Q47: 2859.38 | R47: 21279.26 | S47: 1115.4 | T47: 0 | U47: 1697.84 | W47: 22394.66
A48: 198 | B48: 1455 | C48: 2 | D48: Centro El Sabinal | E48: 1 | F48: Médico director | G48: VACANTE | J48: García Silva, Lucía | K48: 22085 | L48: 39614 | M48: 16646.88 | N48: 12494.64 | O48: 19461.48 | P48: 2575.44 | Q48: 7038.12 | R48: 58216.56 | S48: 1845.2 | T48: 0 | U48: 5755.26 | W48: 60061.76
A49: 199 | B49: 221 | C49: 1 | D49: Oficinas Centrales | E49: 1 | F49: Coord. Admisión | G49: VACANTE | J49: VACANTE | M49: 16646.88 | N49: 12494.64 | O49: 19461.48 | P49: 2575.44 | Q49: 7038.12 | R49: 58216.56 | S49: 0 | T49: 0 | U49: 5755.26 | W49: 58216.56
A50: 206 | B50: 1988 | C50: 2 | D50: Centro El Sabinal | E50: 1 | F50: Médico adjunto | G50: VACANTE | J50: Artiles Cabrera, Sara | K50: 31833 | L50: 44576 | M50: 16646.88 | N50: 10480.56 | O50: 16910.88 | P50: 2575.44 | Q50: 6277.34 | R50: 52891.1 | S50: -461.3 | T50: 0 | U50: 4994.48 | W50: 52429.8
A51: 208 | B51: 1732 | C51: 2 | D51: Centro El Sabinal | E51: 1 | F51: Médico adjunto | G51: Rodríguez Galvez, Juan Ramón | H51: 25440 | I51: 44093 | J51: Rodríguez Galvez, Juan Ramón | K51: 25440 | L51: 44093 | M51: 16646.88 | N51: 10480.56 | O51: 16910.88 | P51: 2575.44 | Q51: 6277.34 | R51: 52891.1 | S51: 0 | T51: 0 | U51: 4994.48 | W51: 52891.1
A52: 209 | B52: 764 | C52: 2 | D52: Centro El Sabinal | E52: 1 | F52: Médico adjunto | G52: Pérez Betancor, Juan Carlos | H52: 21569 | I52: 36233 | J52: Pérez Betancor, Juan Carlos | K52: 21569 | L52: 36233 | M52: 16646.88 | N52: 10480.56 | O52: 16910.88 | P52: 2575.44 | Q52: 6277.34 | R52: 52891.1 | S52: 3229.1 | T52: 0 | U52: 4994.48 | W52: 56120.2
A53: 228 | C53: 5 | D53: Hospital Dermatológico | E53: 1 | F53: Médico dermatólogo | G53: VACANTE | J53: VACANTE | M53: 16646.88 | N53: 10480.56 | O53: 16910.88 | P53: 2575.44 | Q53: 6277.34 | R53: 52891.1 | S53: 0 | T53: 0 | U53: 4994.48 | W53: 52891.1
A54: 361 | B54: 2242 | C54: 1 | D54: Oficinas Centrales | E54: 1 | F54: Médico de empresa | G54: García Silva, Lucía | H54: 22115 | I54: 39614 | J54: Hernández Hernández, Hanna | K54: 33378 | L54: 45444 | M54: 16646.88 | N54: 10480.56 | O54: 16910.88 | P54: 2575.44 | Q54: 6277.34 | R54: 52891.1 | S54: -626.05 | T54: 0 | U54: 4994.48 | W54: 52265.05
A55: 370 | B55: 1966 | C55: 2 | D55: Centro El Sabinal | E55: 1 | F55: Farmacéutico | G55: Lineros Martín, Beatriz | H55: 28209 | I55: 39792 | J55: Lineros Martín, Beatriz | K55: 28209 | L55: 39792 | M55: 16646.88 | N55: 8749.68 | O55: 16910.88 | P55: 2575.44 | Q55: 5988.86 | R55: 50871.74 | S55: 1845.2 | T55: 0 | U55: 4706 | W55: 52716.94
A56: 393 | B56: 792 | C56: 2 | D56: Centro El Sabinal | E56: 2 | F56: A.T.S. / D.U.E. | G56: Rodríguez Pérez, Pedro Manuel | H56: 27008 | I56: 35125 | J56: Rodríguez Pérez, Pedro Manuel | K56: 27008 | L56: 35125 | M56: 14394.24 | N56: 7652.76 | O56: 11487.96 | P56: 2104.56 | Q56: 4939.78 | R56: 40579.3 | S56: 3553.76 | T56: 0 | U56: 3540.88 | W56: 44133.06
A57: 403 | B57: 1127 | C57: 2 | D57: Centro El Sabinal | E57: 2 | F57: Fisioterapeuta | G57: González Jiménez, Germán | H57: 28128 | I57: 39453 | J57: González Jiménez, Germán | K57: 28128 | L57: 39453 | M57: 14394.24 | N57: 7652.76 | O57: 11487.96 | P57: 2104.56 | Q57: 4939.78 | R57: 40579.3 | S57: 1776.88 | T57: 0 | U57: 3540.88 | W57: 42356.18
A58: 404 | B58: 911 | C58: 2 | D58: Centro El Sabinal | E58: 2 | F58: A.T.S. / D.U.E. | G58: Ortega Sánchez, Lidia Esther | H58: 28089 | I58: 38476 | J58: Ortega Sánchez, Lidia Esther | K58: 28089 | L58: 38476 | M58: 14394.24 | N58: 7652.76 | O58: 11487.96 | P58: 2104.56 | Q58: 4939.78 | R58: 40579.3 | S58: 2221.1 | T58: 0 | U58: 3540.88 | W58: 42800.4
A59: 408 | B59: 2218 | C59: 2 | D59: Centro El Sabinal | E59: 4 | F59: LPC | G59: Hernández Medina, Evarista | H59: 27998 | I59: 44325 | J59: Hernández Medina, Evarista | K59: 27998 | L59: 44325 | M59: 8994.96 | N59: 4578.84 | O59: 6027.24 | P59: 1430.28 | Q59: 3253.18 | R59: 24284.5 | S59: -111 | T59: 0 | U59: 2006.06 | W59: 24173.5
A60: 410 | B60: 1059 | C60: 2 | D60: Centro El Sabinal | E60: 1 | F60: Técnico grupo I | G60: Caballero Rodríguez, María A. | H60: 29218 | I60: 38575 | J60: Caballero Rodríguez, María A. | K60: 29218 | L60: 38575 | M60: 16646.88 | N60: 8749.68 | O60: 16910.88 | P60: 2575.44 | Q60: 5988.86 | R60: 50871.74 | S60: 2306.5 | T60: 0 | U60: 4706 | W60: 53178.24
A61: 411 | B61: 1239 | C61: 2 | D61: Centro El Sabinal | E61: 2 | F61: Ingeniero téc. indust. | G61: Lemes Quintana, María Widnelia | H61: 28561 | I61: 39167 | J61: Lemes Quintana, María Widnelia | K61: 28561 | L61: 39167 | M61: 14394.24 | N61: 7652.76 | O61: 11487.96 | P61: 2104.56 | Q61: 4939.78 | R61: 40579.3 | S61: 1776.88 | T61: 0 | U61: 3540.88 | W61: 42356.18
A62: 412 | B62: 206 | C62: 2 | D62: Centro El Sabinal | E62: 3 | F62: Administrativo | G62: Falcón Rodríguez, Rosa Elena | H62: 25118 | I62: 33975 | J62: Falcón Rodríguez, Rosa Elena | K62: 25118 | L62: 33975 | M62: 10807.56 | N62: 5252.76 | O62: 7302.84 | P62: 1735.44 | Q62: 3649.44 | R62: 28748.04 | S62: 3584.7 | T62: 0 | U62: 2381.84 | W62: 32332.74 | X62: Compl. Caja Fija
A63: 413 | B63: 276 | C63: 1 | D63: Oficinas Centrales | E63: 3 | F63: Administrativo | G63: Rodríguez Santana, Mª Dolores | H63: 23058 | I63: 33294 | J63: Rodríguez Santana, Mª Dolores | K63: 23058 | L63: 33294 | M63: 10807.56 | N63: 5252.76 | O63: 7302.84 | P63: 1735.44 | Q63: 3649.44 | R63: 28748.04 | S63: 3926.1 | T63: 0 | U63: 2381.84 | W63: 32674.14
A64: 414 | B64: 294 | C64: 1 | D64: Oficinas Centrales | E64: 4 | F64: Auxiliar administrativo | G64: López Jerez, M. Carmen | H64: 22713 | I64: 34672 | J64: López Jerez, M. Carmen | K64: 22713 | L64: 34672 | M64: 8994.96 | N64: 4578.84 | O64: 6027.24 | P64: 1430.28 | Q64: 3253.18 | R64: 24284.5 | S64: 2486.4 | T64: 0 | U64: 2006.06 | W64: 26770.9
A65: 415 | B65: 321 | C65: 1 | D65: Oficinas Centrales | E65: 3 | F65: Delineante | G65: VACANTE | J65: VACANTE | M65: 10807.56 | N65: 5252.76 | O65: 7302.84 | P65: 1735.44 | Q65: 3649.44 | R65: 28748.04 | S65: 0 | T65: 0 | U65: 2381.84 | W65: 28748.04
A66: 416 | C66: 2 | D66: Centro El Sabinal | E66: 3 | F66: Técnico superior en restauración (grupo III) | G66: VACANTE | J66: VACANTE | M66: 10807.56 | N66: 5252.76 | O66: 7302.84 | P66: 1735.44 | Q66: 3649.44 | R66: 28748.04 | S66: 0 | T66: 0 | U66: 2381.84 | V66: 0 | W66: 0
A67: 417 | B67: 2411 | C67: 1 | D67: Oficinas Centrales | E67: 3 | F67: Técnico superior informático (grupo III) | G67: VACANTE | J67: Umpiérrez Fernández, Pedro J. | K67: 32646 | L67: 45019 | M67: 10807.56 | N67: 5252.76 | O67: 7302.84 | P67: 1735.44 | Q67: 3649.44 | R67: 28748.04 | S67: -398.3 | T67: 0 | U67: 2381.84 | W67: 28349.74
A68: 418 | B68: 2311 | C68: 1 | D68: Oficinas Centrales | E68: 3 | F68: Técnico superior informático (grupo III) | G68: Acosta Nieves, Airám Jesús | H68: 34909 | I68: 45474 | J68: Acosta Nieves, Airám Jesús | K68: 34909 | L68: 45474 | M68: 10807.56 | N68: 5252.76 | O68: 7302.84 | P68: 1735.44 | Q68: 3649.44 | R68: 28748.04 | S68: -597.45 | T68: 0 | U68: 2381.84 | W68: 28150.59
A69: 419 | B69: 2567 | C69: 1 | D69: Oficinas Centrales | E69: 2 | F69: Grupo de gestión | G69: VACANTE Graduado Social | J69: Díaz del Rosario, Yurena | K69: 32530 | L69: 45559 | M69: 14394.24 | N69: 7652.76 | O69: 11487.96 | P69: 2104.56 | Q69: 4939.78 | R69: 40579.3 | S69: -761.52 | T69: 0 | U69: 3540.88 | W69: 39817.78
A70: 420 | C70: 1 | D70: Oficinas Centrales | E70: 1 | F70: Director servicios grales. | G70: VACANTE | J70: VACANTE | M70: 16646.88 | N70: 13042.68 | O70: 22413.6 | P70: 2575.44 | Q70: 7621.48 | R70: 62300.08 | S70: 0 | T70: 0 | U70: 6338.62 | W70: 62300.08
A71: 421 | C71: 1 | D71: Oficinas Centrales | E71: 1 | F71: Director asistencial | G71: VACANTE | J71: VACANTE | M71: 16646.88 | N71: 13042.68 | O71: 22413.6 | P71: 2575.44 | Q71: 7621.48 | R71: 62300.08 | S71: 0 | T71: 0 | U71: 6338.62 | W71: 62300.08
A72: 422 | C72: 1 | D72: Oficinas Centrales | E72: 2 | F72: Director de enfermería | G72: VACANTE | J72: VACANTE | M72: 14394.24 | N72: 13042.68 | O72: 21138.24 | P72: 2104.56 | Q72: 7446.48 | R72: 58126.2 | S72: 0 | T72: 0 | U72: 6047.58 | W72: 58126.2
A73: 423 | B73: 1265 | C73: 1 | D73: Oficinas Centrales | E73: 2 | F73: Grupo de gestión | G73: Pérez Marrero, Ana María | H73: 25028 | I73: 37226 | J73: Pérez Marrero, Ana María | K73: 25028 | L73: 37226 | M73: 14394.24 | N73: 7652.76 | O73: 11487.96 | P73: 2104.56 | Q73: 4939.78 | R73: 40579.3 | S73: 2665.32 | T73: 0 | U73: 3540.88 | W73: 43244.62
A74: 424 | B74: 992 | C74: 1 | D74: Oficinas Centrales | E74: 3 | F74: Técnico superior informático (grupo III) | G74: Arocha Santana, Pedro Jacob | H74: 29145 | I74: 38448 | J74: Arocha Santana, Pedro Jacob | K74: 29145 | L74: 38448 | M74: 10807.56 | N74: 5252.76 | O74: 7302.84 | P74: 1735.44 | Q74: 3649.44 | R74: 28748.04 | S74: 1991.5 | T74: 0 | U74: 2381.84 | W74: 30739.54
A75: 425 | C75: 2 | D75: Centro El Sabinal | E75: 3 | F75: Técnico superior alojamiento (grupo III) | G75: VACANTE | J75: VACANTE | M75: 10807.56 | N75: 5252.76 | O75: 7302.84 | P75: 1735.44 | Q75: 3649.44 | R75: 28748.04 | S75: 0 | T75: 0 | U75: 2381.84 | V75: 0 | W75: 0
A76: 665 | B76: 327 | C76: 2 | D76: Centro El Sabinal | E76: 2 | F76: A.T.S. / D.U.E. | G76: Garcia Navarro, Mª Pilar | H76: 26742 | I76: 16286 | J76: Garcia Navarro, Mª Pilar | K76: 26742 | L76: 34548 | M76: 14394.24 | N76: 7652.76 | O76: 11487.96 | P76: 2104.56 | Q76: 4939.78 | R76: 40579.3 | S76: 3712.41 | T76: 0 | U76: 3540.88 | W76: 44291.71
A77: 673 | B77: 1136 | C77: 2 | D77: Centro El Sabinal | E77: 2 | F77: A.T.S. / D.U.E. | G77: Santana Cabrera, Rayco | H77: 31065 | I77: 39868 | J77: Santana Cabrera, Rayco | K77: 31065 | L77: 39868 | M77: 14394.24 | N77: 7652.76 | O77: 11487.96 | P77: 2104.56 | Q77: 4939.78 | R77: 40579.3 | S77: 1713.42 | T77: 0 | U77: 3540.88 | W77: 42292.72
A78: 677 | B78: 314 | C78: 2 | D78: Centro El Sabinal | E78: 2 | F78: A.T.S. / D.U.E. | G78: Alonso Henríquez, Mª Ángeles | H78: 26883 | I78: 35892 | J78: Alonso Henríquez, Mª Ángeles | K78: 26883 | L78: 35892 | M78: 14394.24 | N78: 7652.76 | O78: 11487.96 | P78: 2104.56 | Q78: 4939.78 | R78: 40579.3 | S78: 3109.54 | T78: 0 | U78: 3540.88 | W78: 43688.84
A79: 682 | B79: 1129 | C79: 1 | D79: Oficinas Centrales | E79: 2 | F79: A.T.S. / D.U.E. | G79: Díaz Santana, Rosa María | H79: 29469 | I79: 38684 | J79: Díaz Santana, Rosa María | K79: 29469 | L79: 38684 | M79: 14394.24 | N79: 7652.76 | O79: 11487.96 | P79: 2104.56 | Q79: 4939.78 | R79: 40579.3 | S79: 2221.1 | T79: 0 | U79: 3540.88 | W79: 42800.4
A80: 683 | B80: 1396 | C80: 2 | D80: Centro El Sabinal | E80: 2 | F80: A.T.S. / D.U.E. | G80: Martín Melián, Minerva | H80: 28471 | I80: 44378 | J80: Martín Melián, Minerva | K80: 28471 | L80: 44378 | M80: 14394.24 | N80: 7652.76 | O80: 11487.96 | P80: 2104.56 | Q80: 4939.78 | R80: 40579.3 | S80: -222.11 | T80: 0 | U80: 3540.88 | W80: 40357.19
A81: 684 | B81: 1237 | C81: 2 | D81: Centro El Sabinal | E81: 2 | F81: A.T.S. / D.U.E. | G81: Medina Santana, Mª Yaiza | H81: 28447 | I81: 38244 | J81: Medina Santana, Mª Yaiza | K81: 28447 | L81: 38244 | M81: 14394.24 | N81: 7652.76 | O81: 11487.96 | P81: 2104.56 | Q81: 4939.78 | R81: 40579.3 | S81: 2221.1 | T81: 0 | U81: 3540.88 | W81: 42800.4
A82: 685 | B82: 1296 | C82: 2 | D82: Centro El Sabinal | E82: 2 | F82: A.T.S. / D.U.E. | G82: Tacoronte Hernández, Desirée | H82: 27465 | I82: 39945 | J82: Tacoronte Hernández, Desirée | K82: 27465 | L82: 39945 | M82: 14394.24 | N82: 7652.76 | O82: 11487.96 | P82: 2104.56 | Q82: 4939.78 | R82: 40579.3 | S82: 1618.23 | T82: 0 | U82: 3540.88 | W82: 42197.53
A83: 686 | B83: 256 | C83: 2 | D83: Centro El Sabinal | E83: 2 | F83: A.T.S. / D.U.E. | G83: Hernández Medina, Mª Cristo | H83: 24642 | I83: 33935 | J83: Hernández Medina, Mª Cristo | K83: 24642 | L83: 33935 | M83: 14394.24 | N83: 7652.76 | O83: 11487.96 | P83: 2104.56 | Q83: 4939.78 | R83: 40579.3 | S83: 3997.98 | T83: 0 | U83: 3540.88 | W83: 44577.28
A84: 687 | B84: 261 | C84: 2 | D84: Centro El Sabinal | E84: 2 | F84: A.T.S. / D.U.E. | G84: VACANTE | J84: Quintana Mederos, Manuel | K84: 26059 | L84: 35025 | M84: 14394.24 | N84: 7652.76 | O84: 11487.96 | P84: 2104.56 | Q84: 4939.78 | R84: 40579.3 | S84: 3553.76 | T84: 0 | U84: 3540.88 | W84: 44133.06 | X84: SUPERV. GRAL.
A85: 688 | B85: 1414 | C85: 2 | D85: Centro El Sabinal | E85: 2 | F85: A.T.S. / D.U.E. | G85: Yánez González, Estefanía | H85: 28572 | I85: 45737 | J85: Yánez González, Estefanía | K85: 28572 | L85: 45737 | M85: 14394.24 | N85: 7652.76 | O85: 11487.96 | P85: 2104.56 | Q85: 4939.78 | R85: 40579.3 | S85: -888.44 | T85: 0 | U85: 3540.88 | W85: 39690.86
A86: 689 | B86: 1450 | C86: 2 | D86: Centro El Sabinal | E86: 2 | F86: A.T.S. / D.U.E. | G86: González Domínguez, Yeray Fco. | H86: 28900 | I86: 44477 | J86: González Domínguez, Yeray Fco. | K86: 28900 | L86: 44477 | M86: 14394.24 | N86: 7652.76 | O86: 11487.96 | P86: 2104.56 | Q86: 4939.78 | R86: 40579.3 | S86: -349.03 | T86: 0 | U86: 3540.88 | W86: 40230.27
A87: 690 | B87: 1125 | C87: 5 | D87: Hospital Dermatológico | E87: 2 | F87: A.T.S. / D.U.E. | G87: Ramos Jiménez, Vanesa | H87: 28224 | I87: 40277 | J87: Ramos Jiménez, Vanesa | K87: 28224 | L87: 40277 | M87: 14394.24 | N87: 7652.76 | O87: 11487.96 | P87: 2104.56 | Q87: 4939.78 | R87: 40579.3 | S87: 1332.66 | T87: 0 | U87: 3540.88 | W87: 41911.96
A88: 691 | B88: 100 | C88: 5 | D88: Hospital Dermatológico | E88: 2 | F88: A.T.S. / D.U.E. | G88: Gomez-Pamo Guerra-Rio, Gloria | H88: 23078 | I88: 32845 | J88: Gomez-Pamo Guerra-Rio, Gloria | K88: 23078 | L88: 32845 | M88: 14394.24 | N88: 7652.76 | O88: 11487.96 | P88: 2104.56 | Q88: 4939.78 | R88: 40579.3 | S88: 4442.2 | T88: 0 | U88: 3540.88 | W88: 45021.5
A89: 692 | B89: 1005 | C89: 5 | D89: Hospital Dermatológico | E89: 2 | F89: A.T.S. / D.U.E. | G89: García Benítez, José Luis | H89: 22859 | I89: 38544 | J89: García Benítez, José Luis | K89: 22859 | L89: 38544 | M89: 14394.24 | N89: 7652.76 | O89: 11487.96 | P89: 2104.56 | Q89: 4939.78 | R89: 40579.3 | S89: 2221.1 | T89: 0 | U89: 3540.88 | W89: 42800.4
A90: 693 | B90: 1700 | C90: 5 | D90: Hospital Dermatológico | E90: 2 | F90: A.T.S. / D.U.E. | G90: VACANTE | J90: Monzón Monzón, Sonia | K90: 29808 | L90: 45786 | M90: 14394.24 | N90: 7652.76 | O90: 11487.96 | P90: 2104.56 | Q90: 4939.78 | R90: 40579.3 | S90: -888.44 | T90: 0 | U90: 3540.88 | W90: 39690.86
A91: 694 | B91: 771 | C91: 5 | D91: Hospital Dermatológico | E91: 2 | F91: A.T.S. / D.U.E. | G91: Saavedra Suárez, M. Cielo | H91: 27391 | I91: 36802 | J91: Saavedra Suárez, M. Cielo | K91: 27391 | L91: 36802 | M91: 14394.24 | N91: 7652.76 | O91: 11487.96 | P91: 2104.56 | Q91: 4939.78 | R91: 40579.3 | S91: 2760.51 | T91: 0 | U91: 3540.88 | W91: 43339.81
A92: 695 | B92: 1145 | C92: 2 | D92: Centro El Sabinal | E92: 2 | F92: A.T.S. / D.U.E. | G92: Mejías Rodríguez, Iván | H92: 30870 | I92: 39559 | J92: Mejías Rodríguez, Iván | K92: 30870 | L92: 39559 | M92: 14394.24 | N92: 7652.76 | O92: 11487.96 | P92: 2104.56 | Q92: 4939.78 | R92: 40579.3 | S92: 1776.88 | T92: 0 | U92: 3540.88 | W92: 42356.18
A93: 696 | B93: 896 | C93: 2 | D93: Centro El Sabinal | E93: 2 | F93: A.T.S. / D.U.E. | G93: Rodríguez Déniz, Rebeca Vanesa | H93: 27723 | I93: 36319 | J93: Rodríguez Déniz, Rebeca Vanesa | K93: 27723 | L93: 36319 | M93: 14394.24 | N93: 7652.76 | O93: 11487.96 | P93: 2104.56 | Q93: 4939.78 | R93: 40579.3 | S93: 3109.54 | T93: 0 | U93: 3540.88 | W93: 43688.84
A94: 697 | B94: 671 | C94: 2 | D94: Centro El Sabinal | E94: 2 | F94: A.T.S. / D.U.E. | G94: Marrero Santana, Azucena | H94: 28179 | I94: 37039 | J94: Marrero Santana, Azucena | K94: 28179 | L94: 37039 | M94: 14394.24 | N94: 7652.76 | O94: 11487.96 | P94: 2104.56 | Q94: 4939.78 | R94: 40579.3 | S94: 2665.32 | T94: 0 | U94: 3540.88 | W94: 43244.62
A95: 698 | B95: 673 | C95: 2 | D95: Centro El Sabinal | E95: 2 | F95: A.T.S. / D.U.E. | G95: Hernández Medina, Noemí | H95: 27101 | I95: 37281 | J95: Hernández Medina, Noemí | K95: 27101 | L95: 37281 | M95: 14394.24 | N95: 7652.76 | O95: 11487.96 | P95: 2104.56 | Q95: 4939.78 | R95: 40579.3 | S95: 2665.32 | T95: 0 | U95: 3540.88 | W95: 43244.62
A96: 699 | B96: 373 | C96: 2 | D96: Centro El Sabinal | E96: 2 | F96: A.T.S. / D.U.E. | G96: Pérez Mendoza, Cristi Almudena | H96: 28637 | I96: 36650 | J96: Pérez Mendoza, Cristi Almudena | K96: 28637 | L96: 36650 | M96: 14394.24 | N96: 7652.76 | O96: 11487.96 | P96: 2104.56 | Q96: 4939.78 | R96: 40579.3 | S96: 2950.89 | T96: 0 | U96: 3540.88 | W96: 43530.19
A97: 700 | B97: 392 | C97: 2 | D97: Centro El Sabinal | E97: 2 | F97: A.T.S. / D.U.E. | G97: González Correa, Nayra Cristin | H97: 28578 | I97: 36853 | J97: González Correa, Nayra Cristin | K97: 28578 | L97: 36853 | M97: 14394.24 | N97: 7652.76 | O97: 11487.96 | P97: 2104.56 | Q97: 4939.78 | R97: 40579.3 | S97: 2728.78 | T97: 0 | U97: 3540.88 | W97: 43308.08
A98: 701 | B98: 782 | C98: 2 | D98: Centro El Sabinal | E98: 2 | F98: A.T.S. / D.U.E. | G98: Monzón Monzón, Susana | H98: 27082 | I98: 36648 | J98: Monzón Monzón, Susana | K98: 27082 | L98: 36648 | M98: 14394.24 | N98: 7652.76 | O98: 11487.96 | P98: 2104.56 | Q98: 4939.78 | R98: 40579.3 | S98: 2950.89 | T98: 0 | U98: 3540.88 | W98: 43530.19
A99: 702 | B99: 674 | C99: 2 | D99: Centro El Sabinal | E99: 2 | F99: A.T.S. / D.U.E. | G99: Ramírez Delgado, Agustín | H99: 29273 | I99: 37500 | J99: Ramírez Delgado, Agustín | K99: 29273 | L99: 37500 | M99: 14394.24 | N99: 7652.76 | O99: 11487.96 | P99: 2104.56 | Q99: 4939.78 | R99: 40579.3 | S99: 2665.32 | T99: 0 | U99: 3540.88 | W99: 43244.62
A100: 703 | B100: 716 | C100: 5 | D100: Hospital Dermatológico | E100: 2 | F100: A.T.S. / D.U.E. | G100: Suárez Santana, Natalia | H100: 27689 | I100: 37456 | J100: Suárez Santana, Natalia | K100: 27689 | L100: 37456 | M100: 14394.24 | N100: 7652.76 | O100: 11487.96 | P100: 2104.56 | Q100: 4939.78 | R100: 40579.3 | S100: 2665.32 | T100: 0 | U100: 3540.88 | W100: 43244.62
...

Sheet Hoja 15

Sheet Tabla salarial
A1: Tabla salarial
A2: categoria | B2: grupo | C2: CD | D2: CE | E2: sueldo base | F2: comp dest | G2: comp esp | H2: residencia | I2: paga extra | J2: prod variable | K2: total | L2: sbase | M2: cdest | N2: cesp | O2: resid | P2: total mensual | Q2: pextra | R2: product
A3: A.T.S. / D.U.E. | B3: 2 | C3: 22 | D3: 40 | E3: 14394.24 | F3: 7652.76 | G3: 11487.96 | H3: 2104.56 | I3: 4939.78 | J3: 3540.88 | K3: 40579.3 | L3: 1199.52 | M3: 637.73 | N3: 957.33 | O3: 175.38 | P3: 2969.96 | Q3: 2469.89 | R3: 1770.44
A4: A.T.S. / D.U.E. de empresa | B4: 2 | C4: 22 | D4: 40 | E4: 14394.24 | F4: 7652.76 | G4: 11487.96 | H4: 2104.56 | I4: 4939.78 | J4: 3540.88 | K4: 40579.3 | L4: 1199.52 | M4: 637.73 | N4: 957.33 | O4: 175.38 | P4: 2969.96 | Q4: 2469.89 | R4: 1770.44
A5: A.T.S. superv. Área | B5: 2 | C5: 24 | D5: 55 | E5: 14394.24 | F5: 8749.68 | G5: 15635.4 | H5: 2104.56 | I5: 5813.84 | J5: 4414.94 | K5: 46697.72 | L5: 1199.52 | M5: 729.14 | N5: 1302.95 | O5: 175.38 | P5: 3406.99 | Q5: 2906.92 | R5: 2207.47
A6: A.T.S. superv. Unidad | B6: 2 | C6: 22 | D6: 50 | E6: 14394.24 | F6: 7652.76 | G6: 14038.92 | H6: 2104.56 | I6: 5364.94 | J6: 3966.04 | K6: 43555.42 | L6: 1199.52 | M6: 637.73 | N6: 1169.91 | O6: 175.38 | P6: 3182.54 | Q6: 2682.47 | R6: 1983.02
A7: Administrador delegado | B7: 2 | C7: 24 | D7: 65 | E7: 14394.24 | F7: 8749.68 | G7: 18186.12 | H7: 2104.56 | I7: 6238.96 | J7: 4840.06 | K7: 49673.56 | L7: 1199.52 | M7: 729.14 | N7: 1515.51 | O7: 175.38 | P7: 3619.55 | Q7: 3119.48 | R7: 2420.03
A8: Administrativo | B8: 3 | C8: 16 | D8: 25 | E8: 10807.56 | F8: 5252.76 | G8: 7302.84 | H8: 1735.44 | I8: 3649.44 | J8: 2381.84 | K8: 28748.04 | L8: 900.63 | M8: 437.73 | N8: 608.57 | O8: 144.62 | P8: 2091.55 | Q8: 1824.72 | R8: 1190.92
A9: Analista programador | B9: 2 | C9: 22 | D9: 40 | E9: 14394.24 | F9: 7652.76 | G9: 11487.96 | H9: 2104.56 | I9: 4939.78 | J9: 3540.88 | K9: 40579.3 | L9: 1199.52 | M9: 637.73 | N9: 957.33 | O9: 175.38 | P9: 2969.96 | Q9: 2469.89 | R9: 1770.44
A10: Arquitecto técnico aparejador | B10: 2 | C10: 22 | D10: 40 | E10: 14394.24 | F10: 7652.76 | G10: 11487.96 | H10: 2104.56 | I10: 4939.78 | J10: 3540.88 | K10: 40579.3 | L10: 1199.52 | M10: 637.73 | N10: 957.33 | O10: 175.38 | P10: 2969.96 | Q10: 2469.89 | R10: 1770.44
A11: Asesor jurídico | B11: 1 | C11: 28 | D11: 70 | E11: 16646.88 | F11: 12494.64 | G11: 19461.48 | H11: 2575.44 | I11: 7038.12 | J11: 5755.26 | K11: 58216.56 | L11: 1387.24 | M11: 1041.22 | N11: 1621.79 | O11: 214.62 | P11: 4264.87 | Q11: 3519.06 | R11: 2877.63
A12: Auxiliar administrativo | B12: 4 | C12: 14 | D12: 20 | E12: 8994.96 | F12: 4578.84 | G12: 6027.24 | H12: 1430.28 | I12: 3253.18 | J12: 2006.06 | K12: 24284.5 | L12: 749.58 | M12: 381.57 | N12: 502.27 | O12: 119.19 | P12: 1752.61 | Q12: 1626.59 | R12: 1003.03
A13: Auxiliar de enfermería | B13: 4 | C13: 14 | D13: 20 | E13: 8994.96 | F13: 4578.84 | G13: 6027.24 | H13: 1430.28 | I13: 3253.18 | J13: 2006.06 | K13: 24284.5 | L13: 749.58 | M13: 381.57 | N13: 502.27 | O13: 119.19 | P13: 1752.61 | Q13: 1626.59 | R13: 1003.03
A14: Ayudante de cocina | B14: 4 | C14: 14 | D14: 20 | E14: 8994.96 | F14: 4578.84 | G14: 6027.24 | H14: 1430.28 | I14: 3253.18 | J14: 2006.06 | K14: 24284.5 | L14: 749.58 | M14: 381.57 | N14: 502.27 | O14: 119.19 | P14: 1752.61 | Q14: 1626.59 | R14: 1003.03
... A71: Trabajador social | B71: 2 | C71: 22 | D71: 40 | E71: 14394.24 | F71: 7652.76 | G71: 11487.96 | H71: 2104.56 | I71: 4939.78 | J71: 3540.88 | K71: 40579.3 | L71: 1199.52 | M71: 637.73 | N71: 957.33 | O71: 175.38 | P71: 2969.96 | Q71: 2469.89 | R71: 1770.44

Sheet Resumen por Centros
A6: Centro | B6: Nº
A7: Oficinas Centrales | B7: 75
A8: Centro El Sabinal | B8: 276
A9: Hospital Dermatológico | B9: 43
A10: Total | B10: =SUM(B7:B9) -> 394

Sheet Resumen fijos, interinos y vaca
C1: Datos
A2: Categoría | B2: Grupo | C2: Fijos | D2: Interinos | E2: Vacantes
A3: A.T.S. / D.U.E. | B3: 2 | C3: 36 | D3: 3 | E3: 0
A4: A.T.S. / D.U.E. de empresa | B4: 2 | C4: 1 | D4: 0 | E4: 0
A5: Administrativo | B5: 3 | C5: 6 | D5: 1 | E5: 0
A6: Analista programador | B6: 2 | C6: 1 | D6: 0 | E6: 0
A7: Arquitecto técnico aparejador | B7: 2 | C7: 1 | D7: 0 | E7: 0
A8: Asesor jurídico | B8: 1 | C8: 1 | D8: 0 | E8: 0
A9: Auxiliar administrativo | B9: 4 | C9: 12 | D9: 1 | E9: 0
A10: Auxiliar de enfermería | B10: 4 | C10: 121 | D10: 38 | E10: 9
A11: Capellán | B11: 6 | C11: 0 | D11: 0 | E11: 2
A12: Cocinero | B12: 3 | C12: 4 | D12: 0 | E12: 1
A13: Conductor ambulancia | B13: 4 | C13: 1 | D13: 0 | E13: 0
A14: Coord. Admisión | B14: 1 | C14: 0 | D14: 0 | E14: 1
... A51: Terapeuta ocupacional | B51: 2 | C51: 1 | D51: 1 | E51: 0
A52: Trabajador social | B52: 2 | C52: 9 | D52: 2 | E52: 0 | F52: =C52+D52+E52 -> 394
